BEGIN:VCALENDAR
VERSION:2.0
PRODID:-//Pentaweek Calendar//EN
BEGIN:VEVENT
DTSTART;VALUE=DATE:25870108
SUMMARY:Planning Sprint 1
UID:25870108-pentaweek@local
END:VEVENT
BEGIN:VEVENT
DTSTART;VALUE=DATE:25870115
SUMMARY:Sprint 1, Week 1
UID:25870115-pentaweek@local
END:VEVENT
BEGIN:VEVENT
DTSTART;VALUE=DATE:25870122
SUMMARY:Sprint 1, Week 2
UID:25870122-pentaweek@local
END:VEVENT
BEGIN:VEVENT
DTSTART;VALUE=DATE:25870129
SUMMARY:Sprint 1, Week 3
UID:25870129-pentaweek@local
END:VEVENT
BEGIN:VEVENT
DTSTART;VALUE=DATE:25870205
SUMMARY:Sprint 1, Week 4
UID:25870205-pentaweek@local
END:VEVENT
BEGIN:VEVENT
DTSTART;VALUE=DATE:25870212
SUMMARY:Sprint 1, Week 5
UID:25870212-pentaweek@local
END:VEVENT
BEGIN:VEVENT
DTSTART;VALUE=DATE:25870219
SUMMARY:Planning Sprint 2
UID:25870219-pentaweek@local
END:VEVENT
BEGIN:VEVENT
DTSTART;VALUE=DATE:25870226
SUMMARY:Sprint 2, Week 1
UID:25870226-pentaweek@local
END:VEVENT
BEGIN:VEVENT
DTSTART;VALUE=DATE:25870305
SUMMARY:Sprint 2, Week 2
UID:25870305-pentaweek@local
END:VEVENT
BEGIN:VEVENT
DTSTART;VALUE=DATE:25870312
SUMMARY:Sprint 2, Week 3
UID:25870312-pentaweek@local
END:VEVENT
BEGIN:VEVENT
DTSTART;VALUE=DATE:25870319
SUMMARY:Sprint 2, Week 4
UID:25870319-pentaweek@local
END:VEVENT
BEGIN:VEVENT
DTSTART;VALUE=DATE:25870326
SUMMARY:Sprint 2, Week 5
UID:25870326-pentaweek@local
END:VEVENT
BEGIN:VEVENT
DTSTART;VALUE=DATE:25870402
SUMMARY:Planning Sprint 3
UID:25870402-pentaweek@local
END:VEVENT
BEGIN:VEVENT
DTSTART;VALUE=DATE:25870409
SUMMARY:Sprint 3, Week 1
UID:25870409-pentaweek@local
END:VEVENT
BEGIN:VEVENT
DTSTART;VALUE=DATE:25870416
SUMMARY:Sprint 3, Week 2
UID:25870416-pentaweek@local
END:VEVENT
BEGIN:VEVENT
DTSTART;VALUE=DATE:25870423
SUMMARY:Sprint 3, Week 3
UID:25870423-pentaweek@local
END:VEVENT
BEGIN:VEVENT
DTSTART;VALUE=DATE:25870430
SUMMARY:Sprint 3, Week 4
UID:25870430-pentaweek@local
END:VEVENT
BEGIN:VEVENT
DTSTART;VALUE=DATE:25870507
SUMMARY:Sprint 3, Week 5
UID:25870507-pentaweek@local
END:VEVENT
BEGIN:VEVENT
DTSTART;VALUE=DATE:25870514
SUMMARY:Planning Sprint 4
UID:25870514-pentaweek@local
END:VEVENT
BEGIN:VEVENT
DTSTART;VALUE=DATE:25870521
SUMMARY:Sprint 4, Week 1
UID:25870521-pentaweek@local
END:VEVENT
BEGIN:VEVENT
DTSTART;VALUE=DATE:25870528
SUMMARY:Sprint 4, Week 2
UID:25870528-pentaweek@local
END:VEVENT
BEGIN:VEVENT
DTSTART;VALUE=DATE:25870604
SUMMARY:Sprint 4, Week 3
UID:25870604-pentaweek@local
END:VEVENT
BEGIN:VEVENT
DTSTART;VALUE=DATE:25870611
SUMMARY:Sprint 4, Week 4
UID:25870611-pentaweek@local
END:VEVENT
BEGIN:VEVENT
DTSTART;VALUE=DATE:25870618
SUMMARY:Sprint 4, Week 5
UID:25870618-pentaweek@local
END:VEVENT
BEGIN:VEVENT
DTSTART;VALUE=DATE:25870709
SUMMARY:Planning Sprint 5
UID:25870709-pentaweek@local
END:VEVENT
BEGIN:VEVENT
DTSTART;VALUE=DATE:25870716
SUMMARY:Sprint 5, Week 1
UID:25870716-pentaweek@local
END:VEVENT
BEGIN:VEVENT
DTSTART;VALUE=DATE:25870723
SUMMARY:Sprint 5, Week 2
UID:25870723-pentaweek@local
END:VEVENT
BEGIN:VEVENT
DTSTART;VALUE=DATE:25870730
SUMMARY:Sprint 5, Week 3
UID:25870730-pentaweek@local
END:VEVENT
BEGIN:VEVENT
DTSTART;VALUE=DATE:25870806
SUMMARY:Sprint 5, Week 4
UID:25870806-pentaweek@local
END:VEVENT
BEGIN:VEVENT
DTSTART;VALUE=DATE:25870813
SUMMARY:Sprint 5, Week 5
UID:25870813-pentaweek@local
END:VEVENT
BEGIN:VEVENT
DTSTART;VALUE=DATE:25870820
SUMMARY:Planning Sprint 6
UID:25870820-pentaweek@local
END:VEVENT
BEGIN:VEVENT
DTSTART;VALUE=DATE:25870827
SUMMARY:Sprint 6, Week 1
UID:25870827-pentaweek@local
END:VEVENT
BEGIN:VEVENT
DTSTART;VALUE=DATE:25870903
SUMMARY:Sprint 6, Week 2
UID:25870903-pentaweek@local
END:VEVENT
BEGIN:VEVENT
DTSTART;VALUE=DATE:25870910
SUMMARY:Sprint 6, Week 3
UID:25870910-pentaweek@local
END:VEVENT
BEGIN:VEVENT
DTSTART;VALUE=DATE:25870917
SUMMARY:Sprint 6, Week 4
UID:25870917-pentaweek@local
END:VEVENT
BEGIN:VEVENT
DTSTART;VALUE=DATE:25870924
SUMMARY:Sprint 6, Week 5
UID:25870924-pentaweek@local
END:VEVENT
BEGIN:VEVENT
DTSTART;VALUE=DATE:25871001
SUMMARY:Planning Sprint 7
UID:25871001-pentaweek@local
END:VEVENT
BEGIN:VEVENT
DTSTART;VALUE=DATE:25871008
SUMMARY:Sprint 7, Week 1
UID:25871008-pentaweek@local
END:VEVENT
BEGIN:VEVENT
DTSTART;VALUE=DATE:25871015
SUMMARY:Sprint 7, Week 2
UID:25871015-pentaweek@local
END:VEVENT
BEGIN:VEVENT
DTSTART;VALUE=DATE:25871022
SUMMARY:Sprint 7, Week 3
UID:25871022-pentaweek@local
END:VEVENT
BEGIN:VEVENT
DTSTART;VALUE=DATE:25871029
SUMMARY:Sprint 7, Week 4
UID:25871029-pentaweek@local
END:VEVENT
BEGIN:VEVENT
DTSTART;VALUE=DATE:25871105
SUMMARY:Sprint 7, Week 5
UID:25871105-pentaweek@local
END:VEVENT
BEGIN:VEVENT
DTSTART;VALUE=DATE:25871112
SUMMARY:Planning Sprint 8
UID:25871112-pentaweek@local
END:VEVENT
BEGIN:VEVENT
DTSTART;VALUE=DATE:25871119
SUMMARY:Sprint 8, Week 1
UID:25871119-pentaweek@local
END:VEVENT
BEGIN:VEVENT
DTSTART;VALUE=DATE:25871126
SUMMARY:Sprint 8, Week 2
UID:25871126-pentaweek@local
END:VEVENT
BEGIN:VEVENT
DTSTART;VALUE=DATE:25871203
SUMMARY:Sprint 8, Week 3
UID:25871203-pentaweek@local
END:VEVENT
BEGIN:VEVENT
DTSTART;VALUE=DATE:25871210
SUMMARY:Sprint 8, Week 4
UID:25871210-pentaweek@local
END:VEVENT
BEGIN:VEVENT
DTSTART;VALUE=DATE:25871217
SUMMARY:Sprint 8, Week 5
UID:25871217-pentaweek@local
END:VEVENT
END:VCALENDAR