BEGIN:VCALENDAR
VERSION:2.0
PRODID:-//Pentaweek Calendar//EN
BEGIN:VEVENT
DTSTART;VALUE=DATE:25860109
SUMMARY:Planning Sprint 1
UID:25860109-pentaweek@local
END:VEVENT
BEGIN:VEVENT
DTSTART;VALUE=DATE:25860116
SUMMARY:Sprint 1, Week 1
UID:25860116-pentaweek@local
END:VEVENT
BEGIN:VEVENT
DTSTART;VALUE=DATE:25860123
SUMMARY:Sprint 1, Week 2
UID:25860123-pentaweek@local
END:VEVENT
BEGIN:VEVENT
DTSTART;VALUE=DATE:25860130
SUMMARY:Sprint 1, Week 3
UID:25860130-pentaweek@local
END:VEVENT
BEGIN:VEVENT
DTSTART;VALUE=DATE:25860206
SUMMARY:Sprint 1, Week 4
UID:25860206-pentaweek@local
END:VEVENT
BEGIN:VEVENT
DTSTART;VALUE=DATE:25860213
SUMMARY:Sprint 1, Week 5
UID:25860213-pentaweek@local
END:VEVENT
BEGIN:VEVENT
DTSTART;VALUE=DATE:25860220
SUMMARY:Planning Sprint 2
UID:25860220-pentaweek@local
END:VEVENT
BEGIN:VEVENT
DTSTART;VALUE=DATE:25860227
SUMMARY:Sprint 2, Week 1
UID:25860227-pentaweek@local
END:VEVENT
BEGIN:VEVENT
DTSTART;VALUE=DATE:25860306
SUMMARY:Sprint 2, Week 2
UID:25860306-pentaweek@local
END:VEVENT
BEGIN:VEVENT
DTSTART;VALUE=DATE:25860313
SUMMARY:Sprint 2, Week 3
UID:25860313-pentaweek@local
END:VEVENT
BEGIN:VEVENT
DTSTART;VALUE=DATE:25860320
SUMMARY:Sprint 2, Week 4
UID:25860320-pentaweek@local
END:VEVENT
BEGIN:VEVENT
DTSTART;VALUE=DATE:25860327
SUMMARY:Sprint 2, Week 5
UID:25860327-pentaweek@local
END:VEVENT
BEGIN:VEVENT
DTSTART;VALUE=DATE:25860403
SUMMARY:Planning Sprint 3
UID:25860403-pentaweek@local
END:VEVENT
BEGIN:VEVENT
DTSTART;VALUE=DATE:25860410
SUMMARY:Sprint 3, Week 1
UID:25860410-pentaweek@local
END:VEVENT
BEGIN:VEVENT
DTSTART;VALUE=DATE:25860417
SUMMARY:Sprint 3, Week 2
UID:25860417-pentaweek@local
END:VEVENT
BEGIN:VEVENT
DTSTART;VALUE=DATE:25860424
SUMMARY:Sprint 3, Week 3
UID:25860424-pentaweek@local
END:VEVENT
BEGIN:VEVENT
DTSTART;VALUE=DATE:25860501
SUMMARY:Sprint 3, Week 4
UID:25860501-pentaweek@local
END:VEVENT
BEGIN:VEVENT
DTSTART;VALUE=DATE:25860508
SUMMARY:Sprint 3, Week 5
UID:25860508-pentaweek@local
END:VEVENT
BEGIN:VEVENT
DTSTART;VALUE=DATE:25860515
SUMMARY:Planning Sprint 4
UID:25860515-pentaweek@local
END:VEVENT
BEGIN:VEVENT
DTSTART;VALUE=DATE:25860522
SUMMARY:Sprint 4, Week 1
UID:25860522-pentaweek@local
END:VEVENT
BEGIN:VEVENT
DTSTART;VALUE=DATE:25860529
SUMMARY:Sprint 4, Week 2
UID:25860529-pentaweek@local
END:VEVENT
BEGIN:VEVENT
DTSTART;VALUE=DATE:25860605
SUMMARY:Sprint 4, Week 3
UID:25860605-pentaweek@local
END:VEVENT
BEGIN:VEVENT
DTSTART;VALUE=DATE:25860612
SUMMARY:Sprint 4, Week 4
UID:25860612-pentaweek@local
END:VEVENT
BEGIN:VEVENT
DTSTART;VALUE=DATE:25860619
SUMMARY:Sprint 4, Week 5
UID:25860619-pentaweek@local
END:VEVENT
BEGIN:VEVENT
DTSTART;VALUE=DATE:25860710
SUMMARY:Planning Sprint 5
UID:25860710-pentaweek@local
END:VEVENT
BEGIN:VEVENT
DTSTART;VALUE=DATE:25860717
SUMMARY:Sprint 5, Week 1
UID:25860717-pentaweek@local
END:VEVENT
BEGIN:VEVENT
DTSTART;VALUE=DATE:25860724
SUMMARY:Sprint 5, Week 2
UID:25860724-pentaweek@local
END:VEVENT
BEGIN:VEVENT
DTSTART;VALUE=DATE:25860731
SUMMARY:Sprint 5, Week 3
UID:25860731-pentaweek@local
END:VEVENT
BEGIN:VEVENT
DTSTART;VALUE=DATE:25860807
SUMMARY:Sprint 5, Week 4
UID:25860807-pentaweek@local
END:VEVENT
BEGIN:VEVENT
DTSTART;VALUE=DATE:25860814
SUMMARY:Sprint 5, Week 5
UID:25860814-pentaweek@local
END:VEVENT
BEGIN:VEVENT
DTSTART;VALUE=DATE:25860821
SUMMARY:Planning Sprint 6
UID:25860821-pentaweek@local
END:VEVENT
BEGIN:VEVENT
DTSTART;VALUE=DATE:25860828
SUMMARY:Sprint 6, Week 1
UID:25860828-pentaweek@local
END:VEVENT
BEGIN:VEVENT
DTSTART;VALUE=DATE:25860904
SUMMARY:Sprint 6, Week 2
UID:25860904-pentaweek@local
END:VEVENT
BEGIN:VEVENT
DTSTART;VALUE=DATE:25860911
SUMMARY:Sprint 6, Week 3
UID:25860911-pentaweek@local
END:VEVENT
BEGIN:VEVENT
DTSTART;VALUE=DATE:25860918
SUMMARY:Sprint 6, Week 4
UID:25860918-pentaweek@local
END:VEVENT
BEGIN:VEVENT
DTSTART;VALUE=DATE:25860925
SUMMARY:Sprint 6, Week 5
UID:25860925-pentaweek@local
END:VEVENT
BEGIN:VEVENT
DTSTART;VALUE=DATE:25861002
SUMMARY:Planning Sprint 7
UID:25861002-pentaweek@local
END:VEVENT
BEGIN:VEVENT
DTSTART;VALUE=DATE:25861009
SUMMARY:Sprint 7, Week 1
UID:25861009-pentaweek@local
END:VEVENT
BEGIN:VEVENT
DTSTART;VALUE=DATE:25861016
SUMMARY:Sprint 7, Week 2
UID:25861016-pentaweek@local
END:VEVENT
BEGIN:VEVENT
DTSTART;VALUE=DATE:25861023
SUMMARY:Sprint 7, Week 3
UID:25861023-pentaweek@local
END:VEVENT
BEGIN:VEVENT
DTSTART;VALUE=DATE:25861030
SUMMARY:Sprint 7, Week 4
UID:25861030-pentaweek@local
END:VEVENT
BEGIN:VEVENT
DTSTART;VALUE=DATE:25861106
SUMMARY:Sprint 7, Week 5
UID:25861106-pentaweek@local
END:VEVENT
BEGIN:VEVENT
DTSTART;VALUE=DATE:25861113
SUMMARY:Planning Sprint 8
UID:25861113-pentaweek@local
END:VEVENT
BEGIN:VEVENT
DTSTART;VALUE=DATE:25861120
SUMMARY:Sprint 8, Week 1
UID:25861120-pentaweek@local
END:VEVENT
BEGIN:VEVENT
DTSTART;VALUE=DATE:25861127
SUMMARY:Sprint 8, Week 2
UID:25861127-pentaweek@local
END:VEVENT
BEGIN:VEVENT
DTSTART;VALUE=DATE:25861204
SUMMARY:Sprint 8, Week 3
UID:25861204-pentaweek@local
END:VEVENT
BEGIN:VEVENT
DTSTART;VALUE=DATE:25861211
SUMMARY:Sprint 8, Week 4
UID:25861211-pentaweek@local
END:VEVENT
BEGIN:VEVENT
DTSTART;VALUE=DATE:25861218
SUMMARY:Sprint 8, Week 5
UID:25861218-pentaweek@local
END:VEVENT
END:VCALENDAR