BEGIN:VCALENDAR
VERSION:2.0
PRODID:-//Pentaweek Calendar//EN
BEGIN:VEVENT
DTSTART;VALUE=DATE:25850110
SUMMARY:Planning Sprint 1
UID:25850110-pentaweek@local
END:VEVENT
BEGIN:VEVENT
DTSTART;VALUE=DATE:25850117
SUMMARY:Sprint 1, Week 1
UID:25850117-pentaweek@local
END:VEVENT
BEGIN:VEVENT
DTSTART;VALUE=DATE:25850124
SUMMARY:Sprint 1, Week 2
UID:25850124-pentaweek@local
END:VEVENT
BEGIN:VEVENT
DTSTART;VALUE=DATE:25850131
SUMMARY:Sprint 1, Week 3
UID:25850131-pentaweek@local
END:VEVENT
BEGIN:VEVENT
DTSTART;VALUE=DATE:25850207
SUMMARY:Sprint 1, Week 4
UID:25850207-pentaweek@local
END:VEVENT
BEGIN:VEVENT
DTSTART;VALUE=DATE:25850214
SUMMARY:Sprint 1, Week 5
UID:25850214-pentaweek@local
END:VEVENT
BEGIN:VEVENT
DTSTART;VALUE=DATE:25850221
SUMMARY:Planning Sprint 2
UID:25850221-pentaweek@local
END:VEVENT
BEGIN:VEVENT
DTSTART;VALUE=DATE:25850228
SUMMARY:Sprint 2, Week 1
UID:25850228-pentaweek@local
END:VEVENT
BEGIN:VEVENT
DTSTART;VALUE=DATE:25850307
SUMMARY:Sprint 2, Week 2
UID:25850307-pentaweek@local
END:VEVENT
BEGIN:VEVENT
DTSTART;VALUE=DATE:25850314
SUMMARY:Sprint 2, Week 3
UID:25850314-pentaweek@local
END:VEVENT
BEGIN:VEVENT
DTSTART;VALUE=DATE:25850321
SUMMARY:Sprint 2, Week 4
UID:25850321-pentaweek@local
END:VEVENT
BEGIN:VEVENT
DTSTART;VALUE=DATE:25850328
SUMMARY:Sprint 2, Week 5
UID:25850328-pentaweek@local
END:VEVENT
BEGIN:VEVENT
DTSTART;VALUE=DATE:25850404
SUMMARY:Planning Sprint 3
UID:25850404-pentaweek@local
END:VEVENT
BEGIN:VEVENT
DTSTART;VALUE=DATE:25850411
SUMMARY:Sprint 3, Week 1
UID:25850411-pentaweek@local
END:VEVENT
BEGIN:VEVENT
DTSTART;VALUE=DATE:25850418
SUMMARY:Sprint 3, Week 2
UID:25850418-pentaweek@local
END:VEVENT
BEGIN:VEVENT
DTSTART;VALUE=DATE:25850425
SUMMARY:Sprint 3, Week 3
UID:25850425-pentaweek@local
END:VEVENT
BEGIN:VEVENT
DTSTART;VALUE=DATE:25850502
SUMMARY:Sprint 3, Week 4
UID:25850502-pentaweek@local
END:VEVENT
BEGIN:VEVENT
DTSTART;VALUE=DATE:25850509
SUMMARY:Sprint 3, Week 5
UID:25850509-pentaweek@local
END:VEVENT
BEGIN:VEVENT
DTSTART;VALUE=DATE:25850516
SUMMARY:Planning Sprint 4
UID:25850516-pentaweek@local
END:VEVENT
BEGIN:VEVENT
DTSTART;VALUE=DATE:25850523
SUMMARY:Sprint 4, Week 1
UID:25850523-pentaweek@local
END:VEVENT
BEGIN:VEVENT
DTSTART;VALUE=DATE:25850530
SUMMARY:Sprint 4, Week 2
UID:25850530-pentaweek@local
END:VEVENT
BEGIN:VEVENT
DTSTART;VALUE=DATE:25850606
SUMMARY:Sprint 4, Week 3
UID:25850606-pentaweek@local
END:VEVENT
BEGIN:VEVENT
DTSTART;VALUE=DATE:25850613
SUMMARY:Sprint 4, Week 4
UID:25850613-pentaweek@local
END:VEVENT
BEGIN:VEVENT
DTSTART;VALUE=DATE:25850620
SUMMARY:Sprint 4, Week 5
UID:25850620-pentaweek@local
END:VEVENT
BEGIN:VEVENT
DTSTART;VALUE=DATE:25850711
SUMMARY:Planning Sprint 5
UID:25850711-pentaweek@local
END:VEVENT
BEGIN:VEVENT
DTSTART;VALUE=DATE:25850718
SUMMARY:Sprint 5, Week 1
UID:25850718-pentaweek@local
END:VEVENT
BEGIN:VEVENT
DTSTART;VALUE=DATE:25850725
SUMMARY:Sprint 5, Week 2
UID:25850725-pentaweek@local
END:VEVENT
BEGIN:VEVENT
DTSTART;VALUE=DATE:25850801
SUMMARY:Sprint 5, Week 3
UID:25850801-pentaweek@local
END:VEVENT
BEGIN:VEVENT
DTSTART;VALUE=DATE:25850808
SUMMARY:Sprint 5, Week 4
UID:25850808-pentaweek@local
END:VEVENT
BEGIN:VEVENT
DTSTART;VALUE=DATE:25850815
SUMMARY:Sprint 5, Week 5
UID:25850815-pentaweek@local
END:VEVENT
BEGIN:VEVENT
DTSTART;VALUE=DATE:25850822
SUMMARY:Planning Sprint 6
UID:25850822-pentaweek@local
END:VEVENT
BEGIN:VEVENT
DTSTART;VALUE=DATE:25850829
SUMMARY:Sprint 6, Week 1
UID:25850829-pentaweek@local
END:VEVENT
BEGIN:VEVENT
DTSTART;VALUE=DATE:25850905
SUMMARY:Sprint 6, Week 2
UID:25850905-pentaweek@local
END:VEVENT
BEGIN:VEVENT
DTSTART;VALUE=DATE:25850912
SUMMARY:Sprint 6, Week 3
UID:25850912-pentaweek@local
END:VEVENT
BEGIN:VEVENT
DTSTART;VALUE=DATE:25850919
SUMMARY:Sprint 6, Week 4
UID:25850919-pentaweek@local
END:VEVENT
BEGIN:VEVENT
DTSTART;VALUE=DATE:25850926
SUMMARY:Sprint 6, Week 5
UID:25850926-pentaweek@local
END:VEVENT
BEGIN:VEVENT
DTSTART;VALUE=DATE:25851003
SUMMARY:Planning Sprint 7
UID:25851003-pentaweek@local
END:VEVENT
BEGIN:VEVENT
DTSTART;VALUE=DATE:25851010
SUMMARY:Sprint 7, Week 1
UID:25851010-pentaweek@local
END:VEVENT
BEGIN:VEVENT
DTSTART;VALUE=DATE:25851017
SUMMARY:Sprint 7, Week 2
UID:25851017-pentaweek@local
END:VEVENT
BEGIN:VEVENT
DTSTART;VALUE=DATE:25851024
SUMMARY:Sprint 7, Week 3
UID:25851024-pentaweek@local
END:VEVENT
BEGIN:VEVENT
DTSTART;VALUE=DATE:25851031
SUMMARY:Sprint 7, Week 4
UID:25851031-pentaweek@local
END:VEVENT
BEGIN:VEVENT
DTSTART;VALUE=DATE:25851107
SUMMARY:Sprint 7, Week 5
UID:25851107-pentaweek@local
END:VEVENT
BEGIN:VEVENT
DTSTART;VALUE=DATE:25851114
SUMMARY:Planning Sprint 8
UID:25851114-pentaweek@local
END:VEVENT
BEGIN:VEVENT
DTSTART;VALUE=DATE:25851121
SUMMARY:Sprint 8, Week 1
UID:25851121-pentaweek@local
END:VEVENT
BEGIN:VEVENT
DTSTART;VALUE=DATE:25851128
SUMMARY:Sprint 8, Week 2
UID:25851128-pentaweek@local
END:VEVENT
BEGIN:VEVENT
DTSTART;VALUE=DATE:25851205
SUMMARY:Sprint 8, Week 3
UID:25851205-pentaweek@local
END:VEVENT
BEGIN:VEVENT
DTSTART;VALUE=DATE:25851212
SUMMARY:Sprint 8, Week 4
UID:25851212-pentaweek@local
END:VEVENT
BEGIN:VEVENT
DTSTART;VALUE=DATE:25851219
SUMMARY:Sprint 8, Week 5
UID:25851219-pentaweek@local
END:VEVENT
END:VCALENDAR