BEGIN:VCALENDAR
VERSION:2.0
PRODID:-//Pentaweek Calendar//EN
BEGIN:VEVENT
DTSTART;VALUE=DATE:25840105
SUMMARY:Planning Sprint 1
UID:25840105-pentaweek@local
END:VEVENT
BEGIN:VEVENT
DTSTART;VALUE=DATE:25840112
SUMMARY:Sprint 1, Week 1
UID:25840112-pentaweek@local
END:VEVENT
BEGIN:VEVENT
DTSTART;VALUE=DATE:25840119
SUMMARY:Sprint 1, Week 2
UID:25840119-pentaweek@local
END:VEVENT
BEGIN:VEVENT
DTSTART;VALUE=DATE:25840126
SUMMARY:Sprint 1, Week 3
UID:25840126-pentaweek@local
END:VEVENT
BEGIN:VEVENT
DTSTART;VALUE=DATE:25840202
SUMMARY:Sprint 1, Week 4
UID:25840202-pentaweek@local
END:VEVENT
BEGIN:VEVENT
DTSTART;VALUE=DATE:25840209
SUMMARY:Sprint 1, Week 5
UID:25840209-pentaweek@local
END:VEVENT
BEGIN:VEVENT
DTSTART;VALUE=DATE:25840216
SUMMARY:Planning Sprint 2
UID:25840216-pentaweek@local
END:VEVENT
BEGIN:VEVENT
DTSTART;VALUE=DATE:25840223
SUMMARY:Sprint 2, Week 1
UID:25840223-pentaweek@local
END:VEVENT
BEGIN:VEVENT
DTSTART;VALUE=DATE:25840301
SUMMARY:Sprint 2, Week 2
UID:25840301-pentaweek@local
END:VEVENT
BEGIN:VEVENT
DTSTART;VALUE=DATE:25840308
SUMMARY:Sprint 2, Week 3
UID:25840308-pentaweek@local
END:VEVENT
BEGIN:VEVENT
DTSTART;VALUE=DATE:25840315
SUMMARY:Sprint 2, Week 4
UID:25840315-pentaweek@local
END:VEVENT
BEGIN:VEVENT
DTSTART;VALUE=DATE:25840322
SUMMARY:Sprint 2, Week 5
UID:25840322-pentaweek@local
END:VEVENT
BEGIN:VEVENT
DTSTART;VALUE=DATE:25840329
SUMMARY:Planning Sprint 3
UID:25840329-pentaweek@local
END:VEVENT
BEGIN:VEVENT
DTSTART;VALUE=DATE:25840405
SUMMARY:Sprint 3, Week 1
UID:25840405-pentaweek@local
END:VEVENT
BEGIN:VEVENT
DTSTART;VALUE=DATE:25840412
SUMMARY:Sprint 3, Week 2
UID:25840412-pentaweek@local
END:VEVENT
BEGIN:VEVENT
DTSTART;VALUE=DATE:25840419
SUMMARY:Sprint 3, Week 3
UID:25840419-pentaweek@local
END:VEVENT
BEGIN:VEVENT
DTSTART;VALUE=DATE:25840426
SUMMARY:Sprint 3, Week 4
UID:25840426-pentaweek@local
END:VEVENT
BEGIN:VEVENT
DTSTART;VALUE=DATE:25840503
SUMMARY:Sprint 3, Week 5
UID:25840503-pentaweek@local
END:VEVENT
BEGIN:VEVENT
DTSTART;VALUE=DATE:25840510
SUMMARY:Planning Sprint 4
UID:25840510-pentaweek@local
END:VEVENT
BEGIN:VEVENT
DTSTART;VALUE=DATE:25840517
SUMMARY:Sprint 4, Week 1
UID:25840517-pentaweek@local
END:VEVENT
BEGIN:VEVENT
DTSTART;VALUE=DATE:25840524
SUMMARY:Sprint 4, Week 2
UID:25840524-pentaweek@local
END:VEVENT
BEGIN:VEVENT
DTSTART;VALUE=DATE:25840531
SUMMARY:Sprint 4, Week 3
UID:25840531-pentaweek@local
END:VEVENT
BEGIN:VEVENT
DTSTART;VALUE=DATE:25840607
SUMMARY:Sprint 4, Week 4
UID:25840607-pentaweek@local
END:VEVENT
BEGIN:VEVENT
DTSTART;VALUE=DATE:25840614
SUMMARY:Sprint 4, Week 5
UID:25840614-pentaweek@local
END:VEVENT
BEGIN:VEVENT
DTSTART;VALUE=DATE:25840705
SUMMARY:Planning Sprint 5
UID:25840705-pentaweek@local
END:VEVENT
BEGIN:VEVENT
DTSTART;VALUE=DATE:25840712
SUMMARY:Sprint 5, Week 1
UID:25840712-pentaweek@local
END:VEVENT
BEGIN:VEVENT
DTSTART;VALUE=DATE:25840719
SUMMARY:Sprint 5, Week 2
UID:25840719-pentaweek@local
END:VEVENT
BEGIN:VEVENT
DTSTART;VALUE=DATE:25840726
SUMMARY:Sprint 5, Week 3
UID:25840726-pentaweek@local
END:VEVENT
BEGIN:VEVENT
DTSTART;VALUE=DATE:25840802
SUMMARY:Sprint 5, Week 4
UID:25840802-pentaweek@local
END:VEVENT
BEGIN:VEVENT
DTSTART;VALUE=DATE:25840809
SUMMARY:Sprint 5, Week 5
UID:25840809-pentaweek@local
END:VEVENT
BEGIN:VEVENT
DTSTART;VALUE=DATE:25840816
SUMMARY:Planning Sprint 6
UID:25840816-pentaweek@local
END:VEVENT
BEGIN:VEVENT
DTSTART;VALUE=DATE:25840823
SUMMARY:Sprint 6, Week 1
UID:25840823-pentaweek@local
END:VEVENT
BEGIN:VEVENT
DTSTART;VALUE=DATE:25840830
SUMMARY:Sprint 6, Week 2
UID:25840830-pentaweek@local
END:VEVENT
BEGIN:VEVENT
DTSTART;VALUE=DATE:25840906
SUMMARY:Sprint 6, Week 3
UID:25840906-pentaweek@local
END:VEVENT
BEGIN:VEVENT
DTSTART;VALUE=DATE:25840913
SUMMARY:Sprint 6, Week 4
UID:25840913-pentaweek@local
END:VEVENT
BEGIN:VEVENT
DTSTART;VALUE=DATE:25840920
SUMMARY:Sprint 6, Week 5
UID:25840920-pentaweek@local
END:VEVENT
BEGIN:VEVENT
DTSTART;VALUE=DATE:25840927
SUMMARY:Planning Sprint 7
UID:25840927-pentaweek@local
END:VEVENT
BEGIN:VEVENT
DTSTART;VALUE=DATE:25841004
SUMMARY:Sprint 7, Week 1
UID:25841004-pentaweek@local
END:VEVENT
BEGIN:VEVENT
DTSTART;VALUE=DATE:25841011
SUMMARY:Sprint 7, Week 2
UID:25841011-pentaweek@local
END:VEVENT
BEGIN:VEVENT
DTSTART;VALUE=DATE:25841018
SUMMARY:Sprint 7, Week 3
UID:25841018-pentaweek@local
END:VEVENT
BEGIN:VEVENT
DTSTART;VALUE=DATE:25841025
SUMMARY:Sprint 7, Week 4
UID:25841025-pentaweek@local
END:VEVENT
BEGIN:VEVENT
DTSTART;VALUE=DATE:25841101
SUMMARY:Sprint 7, Week 5
UID:25841101-pentaweek@local
END:VEVENT
BEGIN:VEVENT
DTSTART;VALUE=DATE:25841108
SUMMARY:Planning Sprint 8
UID:25841108-pentaweek@local
END:VEVENT
BEGIN:VEVENT
DTSTART;VALUE=DATE:25841115
SUMMARY:Sprint 8, Week 1
UID:25841115-pentaweek@local
END:VEVENT
BEGIN:VEVENT
DTSTART;VALUE=DATE:25841122
SUMMARY:Sprint 8, Week 2
UID:25841122-pentaweek@local
END:VEVENT
BEGIN:VEVENT
DTSTART;VALUE=DATE:25841129
SUMMARY:Sprint 8, Week 3
UID:25841129-pentaweek@local
END:VEVENT
BEGIN:VEVENT
DTSTART;VALUE=DATE:25841206
SUMMARY:Sprint 8, Week 4
UID:25841206-pentaweek@local
END:VEVENT
BEGIN:VEVENT
DTSTART;VALUE=DATE:25841213
SUMMARY:Sprint 8, Week 5
UID:25841213-pentaweek@local
END:VEVENT
END:VCALENDAR