BEGIN:VCALENDAR
VERSION:2.0
PRODID:-//Pentaweek Calendar//EN
BEGIN:VEVENT
DTSTART;VALUE=DATE:25830106
SUMMARY:Planning Sprint 1
UID:25830106-pentaweek@local
END:VEVENT
BEGIN:VEVENT
DTSTART;VALUE=DATE:25830113
SUMMARY:Sprint 1, Week 1
UID:25830113-pentaweek@local
END:VEVENT
BEGIN:VEVENT
DTSTART;VALUE=DATE:25830120
SUMMARY:Sprint 1, Week 2
UID:25830120-pentaweek@local
END:VEVENT
BEGIN:VEVENT
DTSTART;VALUE=DATE:25830127
SUMMARY:Sprint 1, Week 3
UID:25830127-pentaweek@local
END:VEVENT
BEGIN:VEVENT
DTSTART;VALUE=DATE:25830203
SUMMARY:Sprint 1, Week 4
UID:25830203-pentaweek@local
END:VEVENT
BEGIN:VEVENT
DTSTART;VALUE=DATE:25830210
SUMMARY:Sprint 1, Week 5
UID:25830210-pentaweek@local
END:VEVENT
BEGIN:VEVENT
DTSTART;VALUE=DATE:25830217
SUMMARY:Planning Sprint 2
UID:25830217-pentaweek@local
END:VEVENT
BEGIN:VEVENT
DTSTART;VALUE=DATE:25830224
SUMMARY:Sprint 2, Week 1
UID:25830224-pentaweek@local
END:VEVENT
BEGIN:VEVENT
DTSTART;VALUE=DATE:25830303
SUMMARY:Sprint 2, Week 2
UID:25830303-pentaweek@local
END:VEVENT
BEGIN:VEVENT
DTSTART;VALUE=DATE:25830310
SUMMARY:Sprint 2, Week 3
UID:25830310-pentaweek@local
END:VEVENT
BEGIN:VEVENT
DTSTART;VALUE=DATE:25830317
SUMMARY:Sprint 2, Week 4
UID:25830317-pentaweek@local
END:VEVENT
BEGIN:VEVENT
DTSTART;VALUE=DATE:25830324
SUMMARY:Sprint 2, Week 5
UID:25830324-pentaweek@local
END:VEVENT
BEGIN:VEVENT
DTSTART;VALUE=DATE:25830331
SUMMARY:Planning Sprint 3
UID:25830331-pentaweek@local
END:VEVENT
BEGIN:VEVENT
DTSTART;VALUE=DATE:25830407
SUMMARY:Sprint 3, Week 1
UID:25830407-pentaweek@local
END:VEVENT
BEGIN:VEVENT
DTSTART;VALUE=DATE:25830414
SUMMARY:Sprint 3, Week 2
UID:25830414-pentaweek@local
END:VEVENT
BEGIN:VEVENT
DTSTART;VALUE=DATE:25830421
SUMMARY:Sprint 3, Week 3
UID:25830421-pentaweek@local
END:VEVENT
BEGIN:VEVENT
DTSTART;VALUE=DATE:25830428
SUMMARY:Sprint 3, Week 4
UID:25830428-pentaweek@local
END:VEVENT
BEGIN:VEVENT
DTSTART;VALUE=DATE:25830505
SUMMARY:Sprint 3, Week 5
UID:25830505-pentaweek@local
END:VEVENT
BEGIN:VEVENT
DTSTART;VALUE=DATE:25830512
SUMMARY:Planning Sprint 4
UID:25830512-pentaweek@local
END:VEVENT
BEGIN:VEVENT
DTSTART;VALUE=DATE:25830519
SUMMARY:Sprint 4, Week 1
UID:25830519-pentaweek@local
END:VEVENT
BEGIN:VEVENT
DTSTART;VALUE=DATE:25830526
SUMMARY:Sprint 4, Week 2
UID:25830526-pentaweek@local
END:VEVENT
BEGIN:VEVENT
DTSTART;VALUE=DATE:25830602
SUMMARY:Sprint 4, Week 3
UID:25830602-pentaweek@local
END:VEVENT
BEGIN:VEVENT
DTSTART;VALUE=DATE:25830609
SUMMARY:Sprint 4, Week 4
UID:25830609-pentaweek@local
END:VEVENT
BEGIN:VEVENT
DTSTART;VALUE=DATE:25830616
SUMMARY:Sprint 4, Week 5
UID:25830616-pentaweek@local
END:VEVENT
BEGIN:VEVENT
DTSTART;VALUE=DATE:25830707
SUMMARY:Planning Sprint 5
UID:25830707-pentaweek@local
END:VEVENT
BEGIN:VEVENT
DTSTART;VALUE=DATE:25830714
SUMMARY:Sprint 5, Week 1
UID:25830714-pentaweek@local
END:VEVENT
BEGIN:VEVENT
DTSTART;VALUE=DATE:25830721
SUMMARY:Sprint 5, Week 2
UID:25830721-pentaweek@local
END:VEVENT
BEGIN:VEVENT
DTSTART;VALUE=DATE:25830728
SUMMARY:Sprint 5, Week 3
UID:25830728-pentaweek@local
END:VEVENT
BEGIN:VEVENT
DTSTART;VALUE=DATE:25830804
SUMMARY:Sprint 5, Week 4
UID:25830804-pentaweek@local
END:VEVENT
BEGIN:VEVENT
DTSTART;VALUE=DATE:25830811
SUMMARY:Sprint 5, Week 5
UID:25830811-pentaweek@local
END:VEVENT
BEGIN:VEVENT
DTSTART;VALUE=DATE:25830818
SUMMARY:Planning Sprint 6
UID:25830818-pentaweek@local
END:VEVENT
BEGIN:VEVENT
DTSTART;VALUE=DATE:25830825
SUMMARY:Sprint 6, Week 1
UID:25830825-pentaweek@local
END:VEVENT
BEGIN:VEVENT
DTSTART;VALUE=DATE:25830901
SUMMARY:Sprint 6, Week 2
UID:25830901-pentaweek@local
END:VEVENT
BEGIN:VEVENT
DTSTART;VALUE=DATE:25830908
SUMMARY:Sprint 6, Week 3
UID:25830908-pentaweek@local
END:VEVENT
BEGIN:VEVENT
DTSTART;VALUE=DATE:25830915
SUMMARY:Sprint 6, Week 4
UID:25830915-pentaweek@local
END:VEVENT
BEGIN:VEVENT
DTSTART;VALUE=DATE:25830922
SUMMARY:Sprint 6, Week 5
UID:25830922-pentaweek@local
END:VEVENT
BEGIN:VEVENT
DTSTART;VALUE=DATE:25830929
SUMMARY:Planning Sprint 7
UID:25830929-pentaweek@local
END:VEVENT
BEGIN:VEVENT
DTSTART;VALUE=DATE:25831006
SUMMARY:Sprint 7, Week 1
UID:25831006-pentaweek@local
END:VEVENT
BEGIN:VEVENT
DTSTART;VALUE=DATE:25831013
SUMMARY:Sprint 7, Week 2
UID:25831013-pentaweek@local
END:VEVENT
BEGIN:VEVENT
DTSTART;VALUE=DATE:25831020
SUMMARY:Sprint 7, Week 3
UID:25831020-pentaweek@local
END:VEVENT
BEGIN:VEVENT
DTSTART;VALUE=DATE:25831027
SUMMARY:Sprint 7, Week 4
UID:25831027-pentaweek@local
END:VEVENT
BEGIN:VEVENT
DTSTART;VALUE=DATE:25831103
SUMMARY:Sprint 7, Week 5
UID:25831103-pentaweek@local
END:VEVENT
BEGIN:VEVENT
DTSTART;VALUE=DATE:25831110
SUMMARY:Planning Sprint 8
UID:25831110-pentaweek@local
END:VEVENT
BEGIN:VEVENT
DTSTART;VALUE=DATE:25831117
SUMMARY:Sprint 8, Week 1
UID:25831117-pentaweek@local
END:VEVENT
BEGIN:VEVENT
DTSTART;VALUE=DATE:25831124
SUMMARY:Sprint 8, Week 2
UID:25831124-pentaweek@local
END:VEVENT
BEGIN:VEVENT
DTSTART;VALUE=DATE:25831201
SUMMARY:Sprint 8, Week 3
UID:25831201-pentaweek@local
END:VEVENT
BEGIN:VEVENT
DTSTART;VALUE=DATE:25831208
SUMMARY:Sprint 8, Week 4
UID:25831208-pentaweek@local
END:VEVENT
BEGIN:VEVENT
DTSTART;VALUE=DATE:25831215
SUMMARY:Sprint 8, Week 5
UID:25831215-pentaweek@local
END:VEVENT
END:VCALENDAR