BEGIN:VCALENDAR
VERSION:2.0
PRODID:-//Pentaweek Calendar//EN
BEGIN:VEVENT
DTSTART;VALUE=DATE:25820107
SUMMARY:Planning Sprint 1
UID:25820107-pentaweek@local
END:VEVENT
BEGIN:VEVENT
DTSTART;VALUE=DATE:25820114
SUMMARY:Sprint 1, Week 1
UID:25820114-pentaweek@local
END:VEVENT
BEGIN:VEVENT
DTSTART;VALUE=DATE:25820121
SUMMARY:Sprint 1, Week 2
UID:25820121-pentaweek@local
END:VEVENT
BEGIN:VEVENT
DTSTART;VALUE=DATE:25820128
SUMMARY:Sprint 1, Week 3
UID:25820128-pentaweek@local
END:VEVENT
BEGIN:VEVENT
DTSTART;VALUE=DATE:25820204
SUMMARY:Sprint 1, Week 4
UID:25820204-pentaweek@local
END:VEVENT
BEGIN:VEVENT
DTSTART;VALUE=DATE:25820211
SUMMARY:Sprint 1, Week 5
UID:25820211-pentaweek@local
END:VEVENT
BEGIN:VEVENT
DTSTART;VALUE=DATE:25820218
SUMMARY:Planning Sprint 2
UID:25820218-pentaweek@local
END:VEVENT
BEGIN:VEVENT
DTSTART;VALUE=DATE:25820225
SUMMARY:Sprint 2, Week 1
UID:25820225-pentaweek@local
END:VEVENT
BEGIN:VEVENT
DTSTART;VALUE=DATE:25820304
SUMMARY:Sprint 2, Week 2
UID:25820304-pentaweek@local
END:VEVENT
BEGIN:VEVENT
DTSTART;VALUE=DATE:25820311
SUMMARY:Sprint 2, Week 3
UID:25820311-pentaweek@local
END:VEVENT
BEGIN:VEVENT
DTSTART;VALUE=DATE:25820318
SUMMARY:Sprint 2, Week 4
UID:25820318-pentaweek@local
END:VEVENT
BEGIN:VEVENT
DTSTART;VALUE=DATE:25820325
SUMMARY:Sprint 2, Week 5
UID:25820325-pentaweek@local
END:VEVENT
BEGIN:VEVENT
DTSTART;VALUE=DATE:25820401
SUMMARY:Planning Sprint 3
UID:25820401-pentaweek@local
END:VEVENT
BEGIN:VEVENT
DTSTART;VALUE=DATE:25820408
SUMMARY:Sprint 3, Week 1
UID:25820408-pentaweek@local
END:VEVENT
BEGIN:VEVENT
DTSTART;VALUE=DATE:25820415
SUMMARY:Sprint 3, Week 2
UID:25820415-pentaweek@local
END:VEVENT
BEGIN:VEVENT
DTSTART;VALUE=DATE:25820422
SUMMARY:Sprint 3, Week 3
UID:25820422-pentaweek@local
END:VEVENT
BEGIN:VEVENT
DTSTART;VALUE=DATE:25820429
SUMMARY:Sprint 3, Week 4
UID:25820429-pentaweek@local
END:VEVENT
BEGIN:VEVENT
DTSTART;VALUE=DATE:25820506
SUMMARY:Sprint 3, Week 5
UID:25820506-pentaweek@local
END:VEVENT
BEGIN:VEVENT
DTSTART;VALUE=DATE:25820513
SUMMARY:Planning Sprint 4
UID:25820513-pentaweek@local
END:VEVENT
BEGIN:VEVENT
DTSTART;VALUE=DATE:25820520
SUMMARY:Sprint 4, Week 1
UID:25820520-pentaweek@local
END:VEVENT
BEGIN:VEVENT
DTSTART;VALUE=DATE:25820527
SUMMARY:Sprint 4, Week 2
UID:25820527-pentaweek@local
END:VEVENT
BEGIN:VEVENT
DTSTART;VALUE=DATE:25820603
SUMMARY:Sprint 4, Week 3
UID:25820603-pentaweek@local
END:VEVENT
BEGIN:VEVENT
DTSTART;VALUE=DATE:25820610
SUMMARY:Sprint 4, Week 4
UID:25820610-pentaweek@local
END:VEVENT
BEGIN:VEVENT
DTSTART;VALUE=DATE:25820617
SUMMARY:Sprint 4, Week 5
UID:25820617-pentaweek@local
END:VEVENT
BEGIN:VEVENT
DTSTART;VALUE=DATE:25820708
SUMMARY:Planning Sprint 5
UID:25820708-pentaweek@local
END:VEVENT
BEGIN:VEVENT
DTSTART;VALUE=DATE:25820715
SUMMARY:Sprint 5, Week 1
UID:25820715-pentaweek@local
END:VEVENT
BEGIN:VEVENT
DTSTART;VALUE=DATE:25820722
SUMMARY:Sprint 5, Week 2
UID:25820722-pentaweek@local
END:VEVENT
BEGIN:VEVENT
DTSTART;VALUE=DATE:25820729
SUMMARY:Sprint 5, Week 3
UID:25820729-pentaweek@local
END:VEVENT
BEGIN:VEVENT
DTSTART;VALUE=DATE:25820805
SUMMARY:Sprint 5, Week 4
UID:25820805-pentaweek@local
END:VEVENT
BEGIN:VEVENT
DTSTART;VALUE=DATE:25820812
SUMMARY:Sprint 5, Week 5
UID:25820812-pentaweek@local
END:VEVENT
BEGIN:VEVENT
DTSTART;VALUE=DATE:25820819
SUMMARY:Planning Sprint 6
UID:25820819-pentaweek@local
END:VEVENT
BEGIN:VEVENT
DTSTART;VALUE=DATE:25820826
SUMMARY:Sprint 6, Week 1
UID:25820826-pentaweek@local
END:VEVENT
BEGIN:VEVENT
DTSTART;VALUE=DATE:25820902
SUMMARY:Sprint 6, Week 2
UID:25820902-pentaweek@local
END:VEVENT
BEGIN:VEVENT
DTSTART;VALUE=DATE:25820909
SUMMARY:Sprint 6, Week 3
UID:25820909-pentaweek@local
END:VEVENT
BEGIN:VEVENT
DTSTART;VALUE=DATE:25820916
SUMMARY:Sprint 6, Week 4
UID:25820916-pentaweek@local
END:VEVENT
BEGIN:VEVENT
DTSTART;VALUE=DATE:25820923
SUMMARY:Sprint 6, Week 5
UID:25820923-pentaweek@local
END:VEVENT
BEGIN:VEVENT
DTSTART;VALUE=DATE:25820930
SUMMARY:Planning Sprint 7
UID:25820930-pentaweek@local
END:VEVENT
BEGIN:VEVENT
DTSTART;VALUE=DATE:25821007
SUMMARY:Sprint 7, Week 1
UID:25821007-pentaweek@local
END:VEVENT
BEGIN:VEVENT
DTSTART;VALUE=DATE:25821014
SUMMARY:Sprint 7, Week 2
UID:25821014-pentaweek@local
END:VEVENT
BEGIN:VEVENT
DTSTART;VALUE=DATE:25821021
SUMMARY:Sprint 7, Week 3
UID:25821021-pentaweek@local
END:VEVENT
BEGIN:VEVENT
DTSTART;VALUE=DATE:25821028
SUMMARY:Sprint 7, Week 4
UID:25821028-pentaweek@local
END:VEVENT
BEGIN:VEVENT
DTSTART;VALUE=DATE:25821104
SUMMARY:Sprint 7, Week 5
UID:25821104-pentaweek@local
END:VEVENT
BEGIN:VEVENT
DTSTART;VALUE=DATE:25821111
SUMMARY:Planning Sprint 8
UID:25821111-pentaweek@local
END:VEVENT
BEGIN:VEVENT
DTSTART;VALUE=DATE:25821118
SUMMARY:Sprint 8, Week 1
UID:25821118-pentaweek@local
END:VEVENT
BEGIN:VEVENT
DTSTART;VALUE=DATE:25821125
SUMMARY:Sprint 8, Week 2
UID:25821125-pentaweek@local
END:VEVENT
BEGIN:VEVENT
DTSTART;VALUE=DATE:25821202
SUMMARY:Sprint 8, Week 3
UID:25821202-pentaweek@local
END:VEVENT
BEGIN:VEVENT
DTSTART;VALUE=DATE:25821209
SUMMARY:Sprint 8, Week 4
UID:25821209-pentaweek@local
END:VEVENT
BEGIN:VEVENT
DTSTART;VALUE=DATE:25821216
SUMMARY:Sprint 8, Week 5
UID:25821216-pentaweek@local
END:VEVENT
END:VCALENDAR