BEGIN:VCALENDAR
VERSION:2.0
PRODID:-//Pentaweek Calendar//EN
BEGIN:VEVENT
DTSTART;VALUE=DATE:25810108
SUMMARY:Planning Sprint 1
UID:25810108-pentaweek@local
END:VEVENT
BEGIN:VEVENT
DTSTART;VALUE=DATE:25810115
SUMMARY:Sprint 1, Week 1
UID:25810115-pentaweek@local
END:VEVENT
BEGIN:VEVENT
DTSTART;VALUE=DATE:25810122
SUMMARY:Sprint 1, Week 2
UID:25810122-pentaweek@local
END:VEVENT
BEGIN:VEVENT
DTSTART;VALUE=DATE:25810129
SUMMARY:Sprint 1, Week 3
UID:25810129-pentaweek@local
END:VEVENT
BEGIN:VEVENT
DTSTART;VALUE=DATE:25810205
SUMMARY:Sprint 1, Week 4
UID:25810205-pentaweek@local
END:VEVENT
BEGIN:VEVENT
DTSTART;VALUE=DATE:25810212
SUMMARY:Sprint 1, Week 5
UID:25810212-pentaweek@local
END:VEVENT
BEGIN:VEVENT
DTSTART;VALUE=DATE:25810219
SUMMARY:Planning Sprint 2
UID:25810219-pentaweek@local
END:VEVENT
BEGIN:VEVENT
DTSTART;VALUE=DATE:25810226
SUMMARY:Sprint 2, Week 1
UID:25810226-pentaweek@local
END:VEVENT
BEGIN:VEVENT
DTSTART;VALUE=DATE:25810305
SUMMARY:Sprint 2, Week 2
UID:25810305-pentaweek@local
END:VEVENT
BEGIN:VEVENT
DTSTART;VALUE=DATE:25810312
SUMMARY:Sprint 2, Week 3
UID:25810312-pentaweek@local
END:VEVENT
BEGIN:VEVENT
DTSTART;VALUE=DATE:25810319
SUMMARY:Sprint 2, Week 4
UID:25810319-pentaweek@local
END:VEVENT
BEGIN:VEVENT
DTSTART;VALUE=DATE:25810326
SUMMARY:Sprint 2, Week 5
UID:25810326-pentaweek@local
END:VEVENT
BEGIN:VEVENT
DTSTART;VALUE=DATE:25810402
SUMMARY:Planning Sprint 3
UID:25810402-pentaweek@local
END:VEVENT
BEGIN:VEVENT
DTSTART;VALUE=DATE:25810409
SUMMARY:Sprint 3, Week 1
UID:25810409-pentaweek@local
END:VEVENT
BEGIN:VEVENT
DTSTART;VALUE=DATE:25810416
SUMMARY:Sprint 3, Week 2
UID:25810416-pentaweek@local
END:VEVENT
BEGIN:VEVENT
DTSTART;VALUE=DATE:25810423
SUMMARY:Sprint 3, Week 3
UID:25810423-pentaweek@local
END:VEVENT
BEGIN:VEVENT
DTSTART;VALUE=DATE:25810430
SUMMARY:Sprint 3, Week 4
UID:25810430-pentaweek@local
END:VEVENT
BEGIN:VEVENT
DTSTART;VALUE=DATE:25810507
SUMMARY:Sprint 3, Week 5
UID:25810507-pentaweek@local
END:VEVENT
BEGIN:VEVENT
DTSTART;VALUE=DATE:25810514
SUMMARY:Planning Sprint 4
UID:25810514-pentaweek@local
END:VEVENT
BEGIN:VEVENT
DTSTART;VALUE=DATE:25810521
SUMMARY:Sprint 4, Week 1
UID:25810521-pentaweek@local
END:VEVENT
BEGIN:VEVENT
DTSTART;VALUE=DATE:25810528
SUMMARY:Sprint 4, Week 2
UID:25810528-pentaweek@local
END:VEVENT
BEGIN:VEVENT
DTSTART;VALUE=DATE:25810604
SUMMARY:Sprint 4, Week 3
UID:25810604-pentaweek@local
END:VEVENT
BEGIN:VEVENT
DTSTART;VALUE=DATE:25810611
SUMMARY:Sprint 4, Week 4
UID:25810611-pentaweek@local
END:VEVENT
BEGIN:VEVENT
DTSTART;VALUE=DATE:25810618
SUMMARY:Sprint 4, Week 5
UID:25810618-pentaweek@local
END:VEVENT
BEGIN:VEVENT
DTSTART;VALUE=DATE:25810709
SUMMARY:Planning Sprint 5
UID:25810709-pentaweek@local
END:VEVENT
BEGIN:VEVENT
DTSTART;VALUE=DATE:25810716
SUMMARY:Sprint 5, Week 1
UID:25810716-pentaweek@local
END:VEVENT
BEGIN:VEVENT
DTSTART;VALUE=DATE:25810723
SUMMARY:Sprint 5, Week 2
UID:25810723-pentaweek@local
END:VEVENT
BEGIN:VEVENT
DTSTART;VALUE=DATE:25810730
SUMMARY:Sprint 5, Week 3
UID:25810730-pentaweek@local
END:VEVENT
BEGIN:VEVENT
DTSTART;VALUE=DATE:25810806
SUMMARY:Sprint 5, Week 4
UID:25810806-pentaweek@local
END:VEVENT
BEGIN:VEVENT
DTSTART;VALUE=DATE:25810813
SUMMARY:Sprint 5, Week 5
UID:25810813-pentaweek@local
END:VEVENT
BEGIN:VEVENT
DTSTART;VALUE=DATE:25810820
SUMMARY:Planning Sprint 6
UID:25810820-pentaweek@local
END:VEVENT
BEGIN:VEVENT
DTSTART;VALUE=DATE:25810827
SUMMARY:Sprint 6, Week 1
UID:25810827-pentaweek@local
END:VEVENT
BEGIN:VEVENT
DTSTART;VALUE=DATE:25810903
SUMMARY:Sprint 6, Week 2
UID:25810903-pentaweek@local
END:VEVENT
BEGIN:VEVENT
DTSTART;VALUE=DATE:25810910
SUMMARY:Sprint 6, Week 3
UID:25810910-pentaweek@local
END:VEVENT
BEGIN:VEVENT
DTSTART;VALUE=DATE:25810917
SUMMARY:Sprint 6, Week 4
UID:25810917-pentaweek@local
END:VEVENT
BEGIN:VEVENT
DTSTART;VALUE=DATE:25810924
SUMMARY:Sprint 6, Week 5
UID:25810924-pentaweek@local
END:VEVENT
BEGIN:VEVENT
DTSTART;VALUE=DATE:25811001
SUMMARY:Planning Sprint 7
UID:25811001-pentaweek@local
END:VEVENT
BEGIN:VEVENT
DTSTART;VALUE=DATE:25811008
SUMMARY:Sprint 7, Week 1
UID:25811008-pentaweek@local
END:VEVENT
BEGIN:VEVENT
DTSTART;VALUE=DATE:25811015
SUMMARY:Sprint 7, Week 2
UID:25811015-pentaweek@local
END:VEVENT
BEGIN:VEVENT
DTSTART;VALUE=DATE:25811022
SUMMARY:Sprint 7, Week 3
UID:25811022-pentaweek@local
END:VEVENT
BEGIN:VEVENT
DTSTART;VALUE=DATE:25811029
SUMMARY:Sprint 7, Week 4
UID:25811029-pentaweek@local
END:VEVENT
BEGIN:VEVENT
DTSTART;VALUE=DATE:25811105
SUMMARY:Sprint 7, Week 5
UID:25811105-pentaweek@local
END:VEVENT
BEGIN:VEVENT
DTSTART;VALUE=DATE:25811112
SUMMARY:Planning Sprint 8
UID:25811112-pentaweek@local
END:VEVENT
BEGIN:VEVENT
DTSTART;VALUE=DATE:25811119
SUMMARY:Sprint 8, Week 1
UID:25811119-pentaweek@local
END:VEVENT
BEGIN:VEVENT
DTSTART;VALUE=DATE:25811126
SUMMARY:Sprint 8, Week 2
UID:25811126-pentaweek@local
END:VEVENT
BEGIN:VEVENT
DTSTART;VALUE=DATE:25811203
SUMMARY:Sprint 8, Week 3
UID:25811203-pentaweek@local
END:VEVENT
BEGIN:VEVENT
DTSTART;VALUE=DATE:25811210
SUMMARY:Sprint 8, Week 4
UID:25811210-pentaweek@local
END:VEVENT
BEGIN:VEVENT
DTSTART;VALUE=DATE:25811217
SUMMARY:Sprint 8, Week 5
UID:25811217-pentaweek@local
END:VEVENT
END:VCALENDAR