BEGIN:VCALENDAR
VERSION:2.0
PRODID:-//Pentaweek Calendar//EN
BEGIN:VEVENT
DTSTART;VALUE=DATE:25800110
SUMMARY:Planning Sprint 1
UID:25800110-pentaweek@local
END:VEVENT
BEGIN:VEVENT
DTSTART;VALUE=DATE:25800117
SUMMARY:Sprint 1, Week 1
UID:25800117-pentaweek@local
END:VEVENT
BEGIN:VEVENT
DTSTART;VALUE=DATE:25800124
SUMMARY:Sprint 1, Week 2
UID:25800124-pentaweek@local
END:VEVENT
BEGIN:VEVENT
DTSTART;VALUE=DATE:25800131
SUMMARY:Sprint 1, Week 3
UID:25800131-pentaweek@local
END:VEVENT
BEGIN:VEVENT
DTSTART;VALUE=DATE:25800207
SUMMARY:Sprint 1, Week 4
UID:25800207-pentaweek@local
END:VEVENT
BEGIN:VEVENT
DTSTART;VALUE=DATE:25800214
SUMMARY:Sprint 1, Week 5
UID:25800214-pentaweek@local
END:VEVENT
BEGIN:VEVENT
DTSTART;VALUE=DATE:25800221
SUMMARY:Planning Sprint 2
UID:25800221-pentaweek@local
END:VEVENT
BEGIN:VEVENT
DTSTART;VALUE=DATE:25800228
SUMMARY:Sprint 2, Week 1
UID:25800228-pentaweek@local
END:VEVENT
BEGIN:VEVENT
DTSTART;VALUE=DATE:25800306
SUMMARY:Sprint 2, Week 2
UID:25800306-pentaweek@local
END:VEVENT
BEGIN:VEVENT
DTSTART;VALUE=DATE:25800313
SUMMARY:Sprint 2, Week 3
UID:25800313-pentaweek@local
END:VEVENT
BEGIN:VEVENT
DTSTART;VALUE=DATE:25800320
SUMMARY:Sprint 2, Week 4
UID:25800320-pentaweek@local
END:VEVENT
BEGIN:VEVENT
DTSTART;VALUE=DATE:25800327
SUMMARY:Sprint 2, Week 5
UID:25800327-pentaweek@local
END:VEVENT
BEGIN:VEVENT
DTSTART;VALUE=DATE:25800403
SUMMARY:Planning Sprint 3
UID:25800403-pentaweek@local
END:VEVENT
BEGIN:VEVENT
DTSTART;VALUE=DATE:25800410
SUMMARY:Sprint 3, Week 1
UID:25800410-pentaweek@local
END:VEVENT
BEGIN:VEVENT
DTSTART;VALUE=DATE:25800417
SUMMARY:Sprint 3, Week 2
UID:25800417-pentaweek@local
END:VEVENT
BEGIN:VEVENT
DTSTART;VALUE=DATE:25800424
SUMMARY:Sprint 3, Week 3
UID:25800424-pentaweek@local
END:VEVENT
BEGIN:VEVENT
DTSTART;VALUE=DATE:25800501
SUMMARY:Sprint 3, Week 4
UID:25800501-pentaweek@local
END:VEVENT
BEGIN:VEVENT
DTSTART;VALUE=DATE:25800508
SUMMARY:Sprint 3, Week 5
UID:25800508-pentaweek@local
END:VEVENT
BEGIN:VEVENT
DTSTART;VALUE=DATE:25800515
SUMMARY:Planning Sprint 4
UID:25800515-pentaweek@local
END:VEVENT
BEGIN:VEVENT
DTSTART;VALUE=DATE:25800522
SUMMARY:Sprint 4, Week 1
UID:25800522-pentaweek@local
END:VEVENT
BEGIN:VEVENT
DTSTART;VALUE=DATE:25800529
SUMMARY:Sprint 4, Week 2
UID:25800529-pentaweek@local
END:VEVENT
BEGIN:VEVENT
DTSTART;VALUE=DATE:25800605
SUMMARY:Sprint 4, Week 3
UID:25800605-pentaweek@local
END:VEVENT
BEGIN:VEVENT
DTSTART;VALUE=DATE:25800612
SUMMARY:Sprint 4, Week 4
UID:25800612-pentaweek@local
END:VEVENT
BEGIN:VEVENT
DTSTART;VALUE=DATE:25800619
SUMMARY:Sprint 4, Week 5
UID:25800619-pentaweek@local
END:VEVENT
BEGIN:VEVENT
DTSTART;VALUE=DATE:25800710
SUMMARY:Planning Sprint 5
UID:25800710-pentaweek@local
END:VEVENT
BEGIN:VEVENT
DTSTART;VALUE=DATE:25800717
SUMMARY:Sprint 5, Week 1
UID:25800717-pentaweek@local
END:VEVENT
BEGIN:VEVENT
DTSTART;VALUE=DATE:25800724
SUMMARY:Sprint 5, Week 2
UID:25800724-pentaweek@local
END:VEVENT
BEGIN:VEVENT
DTSTART;VALUE=DATE:25800731
SUMMARY:Sprint 5, Week 3
UID:25800731-pentaweek@local
END:VEVENT
BEGIN:VEVENT
DTSTART;VALUE=DATE:25800807
SUMMARY:Sprint 5, Week 4
UID:25800807-pentaweek@local
END:VEVENT
BEGIN:VEVENT
DTSTART;VALUE=DATE:25800814
SUMMARY:Sprint 5, Week 5
UID:25800814-pentaweek@local
END:VEVENT
BEGIN:VEVENT
DTSTART;VALUE=DATE:25800821
SUMMARY:Planning Sprint 6
UID:25800821-pentaweek@local
END:VEVENT
BEGIN:VEVENT
DTSTART;VALUE=DATE:25800828
SUMMARY:Sprint 6, Week 1
UID:25800828-pentaweek@local
END:VEVENT
BEGIN:VEVENT
DTSTART;VALUE=DATE:25800904
SUMMARY:Sprint 6, Week 2
UID:25800904-pentaweek@local
END:VEVENT
BEGIN:VEVENT
DTSTART;VALUE=DATE:25800911
SUMMARY:Sprint 6, Week 3
UID:25800911-pentaweek@local
END:VEVENT
BEGIN:VEVENT
DTSTART;VALUE=DATE:25800918
SUMMARY:Sprint 6, Week 4
UID:25800918-pentaweek@local
END:VEVENT
BEGIN:VEVENT
DTSTART;VALUE=DATE:25800925
SUMMARY:Sprint 6, Week 5
UID:25800925-pentaweek@local
END:VEVENT
BEGIN:VEVENT
DTSTART;VALUE=DATE:25801002
SUMMARY:Planning Sprint 7
UID:25801002-pentaweek@local
END:VEVENT
BEGIN:VEVENT
DTSTART;VALUE=DATE:25801009
SUMMARY:Sprint 7, Week 1
UID:25801009-pentaweek@local
END:VEVENT
BEGIN:VEVENT
DTSTART;VALUE=DATE:25801016
SUMMARY:Sprint 7, Week 2
UID:25801016-pentaweek@local
END:VEVENT
BEGIN:VEVENT
DTSTART;VALUE=DATE:25801023
SUMMARY:Sprint 7, Week 3
UID:25801023-pentaweek@local
END:VEVENT
BEGIN:VEVENT
DTSTART;VALUE=DATE:25801030
SUMMARY:Sprint 7, Week 4
UID:25801030-pentaweek@local
END:VEVENT
BEGIN:VEVENT
DTSTART;VALUE=DATE:25801106
SUMMARY:Sprint 7, Week 5
UID:25801106-pentaweek@local
END:VEVENT
BEGIN:VEVENT
DTSTART;VALUE=DATE:25801113
SUMMARY:Planning Sprint 8
UID:25801113-pentaweek@local
END:VEVENT
BEGIN:VEVENT
DTSTART;VALUE=DATE:25801120
SUMMARY:Sprint 8, Week 1
UID:25801120-pentaweek@local
END:VEVENT
BEGIN:VEVENT
DTSTART;VALUE=DATE:25801127
SUMMARY:Sprint 8, Week 2
UID:25801127-pentaweek@local
END:VEVENT
BEGIN:VEVENT
DTSTART;VALUE=DATE:25801204
SUMMARY:Sprint 8, Week 3
UID:25801204-pentaweek@local
END:VEVENT
BEGIN:VEVENT
DTSTART;VALUE=DATE:25801211
SUMMARY:Sprint 8, Week 4
UID:25801211-pentaweek@local
END:VEVENT
BEGIN:VEVENT
DTSTART;VALUE=DATE:25801218
SUMMARY:Sprint 8, Week 5
UID:25801218-pentaweek@local
END:VEVENT
END:VCALENDAR