BEGIN:VCALENDAR
VERSION:2.0
PRODID:-//Pentaweek Calendar//EN
BEGIN:VEVENT
DTSTART;VALUE=DATE:25790104
SUMMARY:Planning Sprint 1
UID:25790104-pentaweek@local
END:VEVENT
BEGIN:VEVENT
DTSTART;VALUE=DATE:25790111
SUMMARY:Sprint 1, Week 1
UID:25790111-pentaweek@local
END:VEVENT
BEGIN:VEVENT
DTSTART;VALUE=DATE:25790118
SUMMARY:Sprint 1, Week 2
UID:25790118-pentaweek@local
END:VEVENT
BEGIN:VEVENT
DTSTART;VALUE=DATE:25790125
SUMMARY:Sprint 1, Week 3
UID:25790125-pentaweek@local
END:VEVENT
BEGIN:VEVENT
DTSTART;VALUE=DATE:25790201
SUMMARY:Sprint 1, Week 4
UID:25790201-pentaweek@local
END:VEVENT
BEGIN:VEVENT
DTSTART;VALUE=DATE:25790208
SUMMARY:Sprint 1, Week 5
UID:25790208-pentaweek@local
END:VEVENT
BEGIN:VEVENT
DTSTART;VALUE=DATE:25790215
SUMMARY:Planning Sprint 2
UID:25790215-pentaweek@local
END:VEVENT
BEGIN:VEVENT
DTSTART;VALUE=DATE:25790222
SUMMARY:Sprint 2, Week 1
UID:25790222-pentaweek@local
END:VEVENT
BEGIN:VEVENT
DTSTART;VALUE=DATE:25790301
SUMMARY:Sprint 2, Week 2
UID:25790301-pentaweek@local
END:VEVENT
BEGIN:VEVENT
DTSTART;VALUE=DATE:25790308
SUMMARY:Sprint 2, Week 3
UID:25790308-pentaweek@local
END:VEVENT
BEGIN:VEVENT
DTSTART;VALUE=DATE:25790315
SUMMARY:Sprint 2, Week 4
UID:25790315-pentaweek@local
END:VEVENT
BEGIN:VEVENT
DTSTART;VALUE=DATE:25790322
SUMMARY:Sprint 2, Week 5
UID:25790322-pentaweek@local
END:VEVENT
BEGIN:VEVENT
DTSTART;VALUE=DATE:25790329
SUMMARY:Planning Sprint 3
UID:25790329-pentaweek@local
END:VEVENT
BEGIN:VEVENT
DTSTART;VALUE=DATE:25790405
SUMMARY:Sprint 3, Week 1
UID:25790405-pentaweek@local
END:VEVENT
BEGIN:VEVENT
DTSTART;VALUE=DATE:25790412
SUMMARY:Sprint 3, Week 2
UID:25790412-pentaweek@local
END:VEVENT
BEGIN:VEVENT
DTSTART;VALUE=DATE:25790419
SUMMARY:Sprint 3, Week 3
UID:25790419-pentaweek@local
END:VEVENT
BEGIN:VEVENT
DTSTART;VALUE=DATE:25790426
SUMMARY:Sprint 3, Week 4
UID:25790426-pentaweek@local
END:VEVENT
BEGIN:VEVENT
DTSTART;VALUE=DATE:25790503
SUMMARY:Sprint 3, Week 5
UID:25790503-pentaweek@local
END:VEVENT
BEGIN:VEVENT
DTSTART;VALUE=DATE:25790510
SUMMARY:Planning Sprint 4
UID:25790510-pentaweek@local
END:VEVENT
BEGIN:VEVENT
DTSTART;VALUE=DATE:25790517
SUMMARY:Sprint 4, Week 1
UID:25790517-pentaweek@local
END:VEVENT
BEGIN:VEVENT
DTSTART;VALUE=DATE:25790524
SUMMARY:Sprint 4, Week 2
UID:25790524-pentaweek@local
END:VEVENT
BEGIN:VEVENT
DTSTART;VALUE=DATE:25790531
SUMMARY:Sprint 4, Week 3
UID:25790531-pentaweek@local
END:VEVENT
BEGIN:VEVENT
DTSTART;VALUE=DATE:25790607
SUMMARY:Sprint 4, Week 4
UID:25790607-pentaweek@local
END:VEVENT
BEGIN:VEVENT
DTSTART;VALUE=DATE:25790614
SUMMARY:Sprint 4, Week 5
UID:25790614-pentaweek@local
END:VEVENT
BEGIN:VEVENT
DTSTART;VALUE=DATE:25790705
SUMMARY:Planning Sprint 5
UID:25790705-pentaweek@local
END:VEVENT
BEGIN:VEVENT
DTSTART;VALUE=DATE:25790712
SUMMARY:Sprint 5, Week 1
UID:25790712-pentaweek@local
END:VEVENT
BEGIN:VEVENT
DTSTART;VALUE=DATE:25790719
SUMMARY:Sprint 5, Week 2
UID:25790719-pentaweek@local
END:VEVENT
BEGIN:VEVENT
DTSTART;VALUE=DATE:25790726
SUMMARY:Sprint 5, Week 3
UID:25790726-pentaweek@local
END:VEVENT
BEGIN:VEVENT
DTSTART;VALUE=DATE:25790802
SUMMARY:Sprint 5, Week 4
UID:25790802-pentaweek@local
END:VEVENT
BEGIN:VEVENT
DTSTART;VALUE=DATE:25790809
SUMMARY:Sprint 5, Week 5
UID:25790809-pentaweek@local
END:VEVENT
BEGIN:VEVENT
DTSTART;VALUE=DATE:25790816
SUMMARY:Planning Sprint 6
UID:25790816-pentaweek@local
END:VEVENT
BEGIN:VEVENT
DTSTART;VALUE=DATE:25790823
SUMMARY:Sprint 6, Week 1
UID:25790823-pentaweek@local
END:VEVENT
BEGIN:VEVENT
DTSTART;VALUE=DATE:25790830
SUMMARY:Sprint 6, Week 2
UID:25790830-pentaweek@local
END:VEVENT
BEGIN:VEVENT
DTSTART;VALUE=DATE:25790906
SUMMARY:Sprint 6, Week 3
UID:25790906-pentaweek@local
END:VEVENT
BEGIN:VEVENT
DTSTART;VALUE=DATE:25790913
SUMMARY:Sprint 6, Week 4
UID:25790913-pentaweek@local
END:VEVENT
BEGIN:VEVENT
DTSTART;VALUE=DATE:25790920
SUMMARY:Sprint 6, Week 5
UID:25790920-pentaweek@local
END:VEVENT
BEGIN:VEVENT
DTSTART;VALUE=DATE:25790927
SUMMARY:Planning Sprint 7
UID:25790927-pentaweek@local
END:VEVENT
BEGIN:VEVENT
DTSTART;VALUE=DATE:25791004
SUMMARY:Sprint 7, Week 1
UID:25791004-pentaweek@local
END:VEVENT
BEGIN:VEVENT
DTSTART;VALUE=DATE:25791011
SUMMARY:Sprint 7, Week 2
UID:25791011-pentaweek@local
END:VEVENT
BEGIN:VEVENT
DTSTART;VALUE=DATE:25791018
SUMMARY:Sprint 7, Week 3
UID:25791018-pentaweek@local
END:VEVENT
BEGIN:VEVENT
DTSTART;VALUE=DATE:25791025
SUMMARY:Sprint 7, Week 4
UID:25791025-pentaweek@local
END:VEVENT
BEGIN:VEVENT
DTSTART;VALUE=DATE:25791101
SUMMARY:Sprint 7, Week 5
UID:25791101-pentaweek@local
END:VEVENT
BEGIN:VEVENT
DTSTART;VALUE=DATE:25791108
SUMMARY:Planning Sprint 8
UID:25791108-pentaweek@local
END:VEVENT
BEGIN:VEVENT
DTSTART;VALUE=DATE:25791115
SUMMARY:Sprint 8, Week 1
UID:25791115-pentaweek@local
END:VEVENT
BEGIN:VEVENT
DTSTART;VALUE=DATE:25791122
SUMMARY:Sprint 8, Week 2
UID:25791122-pentaweek@local
END:VEVENT
BEGIN:VEVENT
DTSTART;VALUE=DATE:25791129
SUMMARY:Sprint 8, Week 3
UID:25791129-pentaweek@local
END:VEVENT
BEGIN:VEVENT
DTSTART;VALUE=DATE:25791206
SUMMARY:Sprint 8, Week 4
UID:25791206-pentaweek@local
END:VEVENT
BEGIN:VEVENT
DTSTART;VALUE=DATE:25791213
SUMMARY:Sprint 8, Week 5
UID:25791213-pentaweek@local
END:VEVENT
END:VCALENDAR