BEGIN:VCALENDAR
VERSION:2.0
PRODID:-//Pentaweek Calendar//EN
BEGIN:VEVENT
DTSTART;VALUE=DATE:25780105
SUMMARY:Planning Sprint 1
UID:25780105-pentaweek@local
END:VEVENT
BEGIN:VEVENT
DTSTART;VALUE=DATE:25780112
SUMMARY:Sprint 1, Week 1
UID:25780112-pentaweek@local
END:VEVENT
BEGIN:VEVENT
DTSTART;VALUE=DATE:25780119
SUMMARY:Sprint 1, Week 2
UID:25780119-pentaweek@local
END:VEVENT
BEGIN:VEVENT
DTSTART;VALUE=DATE:25780126
SUMMARY:Sprint 1, Week 3
UID:25780126-pentaweek@local
END:VEVENT
BEGIN:VEVENT
DTSTART;VALUE=DATE:25780202
SUMMARY:Sprint 1, Week 4
UID:25780202-pentaweek@local
END:VEVENT
BEGIN:VEVENT
DTSTART;VALUE=DATE:25780209
SUMMARY:Sprint 1, Week 5
UID:25780209-pentaweek@local
END:VEVENT
BEGIN:VEVENT
DTSTART;VALUE=DATE:25780216
SUMMARY:Planning Sprint 2
UID:25780216-pentaweek@local
END:VEVENT
BEGIN:VEVENT
DTSTART;VALUE=DATE:25780223
SUMMARY:Sprint 2, Week 1
UID:25780223-pentaweek@local
END:VEVENT
BEGIN:VEVENT
DTSTART;VALUE=DATE:25780302
SUMMARY:Sprint 2, Week 2
UID:25780302-pentaweek@local
END:VEVENT
BEGIN:VEVENT
DTSTART;VALUE=DATE:25780309
SUMMARY:Sprint 2, Week 3
UID:25780309-pentaweek@local
END:VEVENT
BEGIN:VEVENT
DTSTART;VALUE=DATE:25780316
SUMMARY:Sprint 2, Week 4
UID:25780316-pentaweek@local
END:VEVENT
BEGIN:VEVENT
DTSTART;VALUE=DATE:25780323
SUMMARY:Sprint 2, Week 5
UID:25780323-pentaweek@local
END:VEVENT
BEGIN:VEVENT
DTSTART;VALUE=DATE:25780330
SUMMARY:Planning Sprint 3
UID:25780330-pentaweek@local
END:VEVENT
BEGIN:VEVENT
DTSTART;VALUE=DATE:25780406
SUMMARY:Sprint 3, Week 1
UID:25780406-pentaweek@local
END:VEVENT
BEGIN:VEVENT
DTSTART;VALUE=DATE:25780413
SUMMARY:Sprint 3, Week 2
UID:25780413-pentaweek@local
END:VEVENT
BEGIN:VEVENT
DTSTART;VALUE=DATE:25780420
SUMMARY:Sprint 3, Week 3
UID:25780420-pentaweek@local
END:VEVENT
BEGIN:VEVENT
DTSTART;VALUE=DATE:25780427
SUMMARY:Sprint 3, Week 4
UID:25780427-pentaweek@local
END:VEVENT
BEGIN:VEVENT
DTSTART;VALUE=DATE:25780504
SUMMARY:Sprint 3, Week 5
UID:25780504-pentaweek@local
END:VEVENT
BEGIN:VEVENT
DTSTART;VALUE=DATE:25780511
SUMMARY:Planning Sprint 4
UID:25780511-pentaweek@local
END:VEVENT
BEGIN:VEVENT
DTSTART;VALUE=DATE:25780518
SUMMARY:Sprint 4, Week 1
UID:25780518-pentaweek@local
END:VEVENT
BEGIN:VEVENT
DTSTART;VALUE=DATE:25780525
SUMMARY:Sprint 4, Week 2
UID:25780525-pentaweek@local
END:VEVENT
BEGIN:VEVENT
DTSTART;VALUE=DATE:25780601
SUMMARY:Sprint 4, Week 3
UID:25780601-pentaweek@local
END:VEVENT
BEGIN:VEVENT
DTSTART;VALUE=DATE:25780608
SUMMARY:Sprint 4, Week 4
UID:25780608-pentaweek@local
END:VEVENT
BEGIN:VEVENT
DTSTART;VALUE=DATE:25780615
SUMMARY:Sprint 4, Week 5
UID:25780615-pentaweek@local
END:VEVENT
BEGIN:VEVENT
DTSTART;VALUE=DATE:25780706
SUMMARY:Planning Sprint 5
UID:25780706-pentaweek@local
END:VEVENT
BEGIN:VEVENT
DTSTART;VALUE=DATE:25780713
SUMMARY:Sprint 5, Week 1
UID:25780713-pentaweek@local
END:VEVENT
BEGIN:VEVENT
DTSTART;VALUE=DATE:25780720
SUMMARY:Sprint 5, Week 2
UID:25780720-pentaweek@local
END:VEVENT
BEGIN:VEVENT
DTSTART;VALUE=DATE:25780727
SUMMARY:Sprint 5, Week 3
UID:25780727-pentaweek@local
END:VEVENT
BEGIN:VEVENT
DTSTART;VALUE=DATE:25780803
SUMMARY:Sprint 5, Week 4
UID:25780803-pentaweek@local
END:VEVENT
BEGIN:VEVENT
DTSTART;VALUE=DATE:25780810
SUMMARY:Sprint 5, Week 5
UID:25780810-pentaweek@local
END:VEVENT
BEGIN:VEVENT
DTSTART;VALUE=DATE:25780817
SUMMARY:Planning Sprint 6
UID:25780817-pentaweek@local
END:VEVENT
BEGIN:VEVENT
DTSTART;VALUE=DATE:25780824
SUMMARY:Sprint 6, Week 1
UID:25780824-pentaweek@local
END:VEVENT
BEGIN:VEVENT
DTSTART;VALUE=DATE:25780831
SUMMARY:Sprint 6, Week 2
UID:25780831-pentaweek@local
END:VEVENT
BEGIN:VEVENT
DTSTART;VALUE=DATE:25780907
SUMMARY:Sprint 6, Week 3
UID:25780907-pentaweek@local
END:VEVENT
BEGIN:VEVENT
DTSTART;VALUE=DATE:25780914
SUMMARY:Sprint 6, Week 4
UID:25780914-pentaweek@local
END:VEVENT
BEGIN:VEVENT
DTSTART;VALUE=DATE:25780921
SUMMARY:Sprint 6, Week 5
UID:25780921-pentaweek@local
END:VEVENT
BEGIN:VEVENT
DTSTART;VALUE=DATE:25780928
SUMMARY:Planning Sprint 7
UID:25780928-pentaweek@local
END:VEVENT
BEGIN:VEVENT
DTSTART;VALUE=DATE:25781005
SUMMARY:Sprint 7, Week 1
UID:25781005-pentaweek@local
END:VEVENT
BEGIN:VEVENT
DTSTART;VALUE=DATE:25781012
SUMMARY:Sprint 7, Week 2
UID:25781012-pentaweek@local
END:VEVENT
BEGIN:VEVENT
DTSTART;VALUE=DATE:25781019
SUMMARY:Sprint 7, Week 3
UID:25781019-pentaweek@local
END:VEVENT
BEGIN:VEVENT
DTSTART;VALUE=DATE:25781026
SUMMARY:Sprint 7, Week 4
UID:25781026-pentaweek@local
END:VEVENT
BEGIN:VEVENT
DTSTART;VALUE=DATE:25781102
SUMMARY:Sprint 7, Week 5
UID:25781102-pentaweek@local
END:VEVENT
BEGIN:VEVENT
DTSTART;VALUE=DATE:25781109
SUMMARY:Planning Sprint 8
UID:25781109-pentaweek@local
END:VEVENT
BEGIN:VEVENT
DTSTART;VALUE=DATE:25781116
SUMMARY:Sprint 8, Week 1
UID:25781116-pentaweek@local
END:VEVENT
BEGIN:VEVENT
DTSTART;VALUE=DATE:25781123
SUMMARY:Sprint 8, Week 2
UID:25781123-pentaweek@local
END:VEVENT
BEGIN:VEVENT
DTSTART;VALUE=DATE:25781130
SUMMARY:Sprint 8, Week 3
UID:25781130-pentaweek@local
END:VEVENT
BEGIN:VEVENT
DTSTART;VALUE=DATE:25781207
SUMMARY:Sprint 8, Week 4
UID:25781207-pentaweek@local
END:VEVENT
BEGIN:VEVENT
DTSTART;VALUE=DATE:25781214
SUMMARY:Sprint 8, Week 5
UID:25781214-pentaweek@local
END:VEVENT
END:VCALENDAR