BEGIN:VCALENDAR
VERSION:2.0
PRODID:-//Pentaweek Calendar//EN
BEGIN:VEVENT
DTSTART;VALUE=DATE:25770106
SUMMARY:Planning Sprint 1
UID:25770106-pentaweek@local
END:VEVENT
BEGIN:VEVENT
DTSTART;VALUE=DATE:25770113
SUMMARY:Sprint 1, Week 1
UID:25770113-pentaweek@local
END:VEVENT
BEGIN:VEVENT
DTSTART;VALUE=DATE:25770120
SUMMARY:Sprint 1, Week 2
UID:25770120-pentaweek@local
END:VEVENT
BEGIN:VEVENT
DTSTART;VALUE=DATE:25770127
SUMMARY:Sprint 1, Week 3
UID:25770127-pentaweek@local
END:VEVENT
BEGIN:VEVENT
DTSTART;VALUE=DATE:25770203
SUMMARY:Sprint 1, Week 4
UID:25770203-pentaweek@local
END:VEVENT
BEGIN:VEVENT
DTSTART;VALUE=DATE:25770210
SUMMARY:Sprint 1, Week 5
UID:25770210-pentaweek@local
END:VEVENT
BEGIN:VEVENT
DTSTART;VALUE=DATE:25770217
SUMMARY:Planning Sprint 2
UID:25770217-pentaweek@local
END:VEVENT
BEGIN:VEVENT
DTSTART;VALUE=DATE:25770224
SUMMARY:Sprint 2, Week 1
UID:25770224-pentaweek@local
END:VEVENT
BEGIN:VEVENT
DTSTART;VALUE=DATE:25770303
SUMMARY:Sprint 2, Week 2
UID:25770303-pentaweek@local
END:VEVENT
BEGIN:VEVENT
DTSTART;VALUE=DATE:25770310
SUMMARY:Sprint 2, Week 3
UID:25770310-pentaweek@local
END:VEVENT
BEGIN:VEVENT
DTSTART;VALUE=DATE:25770317
SUMMARY:Sprint 2, Week 4
UID:25770317-pentaweek@local
END:VEVENT
BEGIN:VEVENT
DTSTART;VALUE=DATE:25770324
SUMMARY:Sprint 2, Week 5
UID:25770324-pentaweek@local
END:VEVENT
BEGIN:VEVENT
DTSTART;VALUE=DATE:25770331
SUMMARY:Planning Sprint 3
UID:25770331-pentaweek@local
END:VEVENT
BEGIN:VEVENT
DTSTART;VALUE=DATE:25770407
SUMMARY:Sprint 3, Week 1
UID:25770407-pentaweek@local
END:VEVENT
BEGIN:VEVENT
DTSTART;VALUE=DATE:25770414
SUMMARY:Sprint 3, Week 2
UID:25770414-pentaweek@local
END:VEVENT
BEGIN:VEVENT
DTSTART;VALUE=DATE:25770421
SUMMARY:Sprint 3, Week 3
UID:25770421-pentaweek@local
END:VEVENT
BEGIN:VEVENT
DTSTART;VALUE=DATE:25770428
SUMMARY:Sprint 3, Week 4
UID:25770428-pentaweek@local
END:VEVENT
BEGIN:VEVENT
DTSTART;VALUE=DATE:25770505
SUMMARY:Sprint 3, Week 5
UID:25770505-pentaweek@local
END:VEVENT
BEGIN:VEVENT
DTSTART;VALUE=DATE:25770512
SUMMARY:Planning Sprint 4
UID:25770512-pentaweek@local
END:VEVENT
BEGIN:VEVENT
DTSTART;VALUE=DATE:25770519
SUMMARY:Sprint 4, Week 1
UID:25770519-pentaweek@local
END:VEVENT
BEGIN:VEVENT
DTSTART;VALUE=DATE:25770526
SUMMARY:Sprint 4, Week 2
UID:25770526-pentaweek@local
END:VEVENT
BEGIN:VEVENT
DTSTART;VALUE=DATE:25770602
SUMMARY:Sprint 4, Week 3
UID:25770602-pentaweek@local
END:VEVENT
BEGIN:VEVENT
DTSTART;VALUE=DATE:25770609
SUMMARY:Sprint 4, Week 4
UID:25770609-pentaweek@local
END:VEVENT
BEGIN:VEVENT
DTSTART;VALUE=DATE:25770616
SUMMARY:Sprint 4, Week 5
UID:25770616-pentaweek@local
END:VEVENT
BEGIN:VEVENT
DTSTART;VALUE=DATE:25770707
SUMMARY:Planning Sprint 5
UID:25770707-pentaweek@local
END:VEVENT
BEGIN:VEVENT
DTSTART;VALUE=DATE:25770714
SUMMARY:Sprint 5, Week 1
UID:25770714-pentaweek@local
END:VEVENT
BEGIN:VEVENT
DTSTART;VALUE=DATE:25770721
SUMMARY:Sprint 5, Week 2
UID:25770721-pentaweek@local
END:VEVENT
BEGIN:VEVENT
DTSTART;VALUE=DATE:25770728
SUMMARY:Sprint 5, Week 3
UID:25770728-pentaweek@local
END:VEVENT
BEGIN:VEVENT
DTSTART;VALUE=DATE:25770804
SUMMARY:Sprint 5, Week 4
UID:25770804-pentaweek@local
END:VEVENT
BEGIN:VEVENT
DTSTART;VALUE=DATE:25770811
SUMMARY:Sprint 5, Week 5
UID:25770811-pentaweek@local
END:VEVENT
BEGIN:VEVENT
DTSTART;VALUE=DATE:25770818
SUMMARY:Planning Sprint 6
UID:25770818-pentaweek@local
END:VEVENT
BEGIN:VEVENT
DTSTART;VALUE=DATE:25770825
SUMMARY:Sprint 6, Week 1
UID:25770825-pentaweek@local
END:VEVENT
BEGIN:VEVENT
DTSTART;VALUE=DATE:25770901
SUMMARY:Sprint 6, Week 2
UID:25770901-pentaweek@local
END:VEVENT
BEGIN:VEVENT
DTSTART;VALUE=DATE:25770908
SUMMARY:Sprint 6, Week 3
UID:25770908-pentaweek@local
END:VEVENT
BEGIN:VEVENT
DTSTART;VALUE=DATE:25770915
SUMMARY:Sprint 6, Week 4
UID:25770915-pentaweek@local
END:VEVENT
BEGIN:VEVENT
DTSTART;VALUE=DATE:25770922
SUMMARY:Sprint 6, Week 5
UID:25770922-pentaweek@local
END:VEVENT
BEGIN:VEVENT
DTSTART;VALUE=DATE:25770929
SUMMARY:Planning Sprint 7
UID:25770929-pentaweek@local
END:VEVENT
BEGIN:VEVENT
DTSTART;VALUE=DATE:25771006
SUMMARY:Sprint 7, Week 1
UID:25771006-pentaweek@local
END:VEVENT
BEGIN:VEVENT
DTSTART;VALUE=DATE:25771013
SUMMARY:Sprint 7, Week 2
UID:25771013-pentaweek@local
END:VEVENT
BEGIN:VEVENT
DTSTART;VALUE=DATE:25771020
SUMMARY:Sprint 7, Week 3
UID:25771020-pentaweek@local
END:VEVENT
BEGIN:VEVENT
DTSTART;VALUE=DATE:25771027
SUMMARY:Sprint 7, Week 4
UID:25771027-pentaweek@local
END:VEVENT
BEGIN:VEVENT
DTSTART;VALUE=DATE:25771103
SUMMARY:Sprint 7, Week 5
UID:25771103-pentaweek@local
END:VEVENT
BEGIN:VEVENT
DTSTART;VALUE=DATE:25771110
SUMMARY:Planning Sprint 8
UID:25771110-pentaweek@local
END:VEVENT
BEGIN:VEVENT
DTSTART;VALUE=DATE:25771117
SUMMARY:Sprint 8, Week 1
UID:25771117-pentaweek@local
END:VEVENT
BEGIN:VEVENT
DTSTART;VALUE=DATE:25771124
SUMMARY:Sprint 8, Week 2
UID:25771124-pentaweek@local
END:VEVENT
BEGIN:VEVENT
DTSTART;VALUE=DATE:25771201
SUMMARY:Sprint 8, Week 3
UID:25771201-pentaweek@local
END:VEVENT
BEGIN:VEVENT
DTSTART;VALUE=DATE:25771208
SUMMARY:Sprint 8, Week 4
UID:25771208-pentaweek@local
END:VEVENT
BEGIN:VEVENT
DTSTART;VALUE=DATE:25771215
SUMMARY:Sprint 8, Week 5
UID:25771215-pentaweek@local
END:VEVENT
END:VCALENDAR